BEGIN:VCALENDAR
METHOD:PUBLISH
VERSION:2.0
CALSCALE:GREGORIAN
PRODID:-//NONSGML WPForms//NONSGML Sugar Calendar Feeds v3.11.0//EN
X-WR-CALNAME:04/25: Closed for Private Event
X-WR-CALDESC:The Long Beach Island Foundation
X-WR-TIMEZONE:America/New_York
BEGIN:VTIMEZONE
TZID:America/New_York
BEGIN:STANDARD
TZOFFSETFROM:-0400
TZOFFSETTO:-0500
DTSTART:20251102T060000
TZNAME:EST
END:STANDARD
BEGIN:DAYLIGHT
TZOFFSETFROM:-0500
TZOFFSETTO:-0400
DTSTART:20260308T070000
TZNAME:EDT
END:DAYLIGHT
END:VTIMEZONE
BEGIN:VTIMEZONE
TZID:America/New_York
BEGIN:STANDARD
TZOFFSETFROM:-0400
TZOFFSETTO:-0500
DTSTART:20251102T060000
TZNAME:EST
END:STANDARD
BEGIN:DAYLIGHT
TZOFFSETFROM:-0500
TZOFFSETTO:-0400
DTSTART:20260308T070000
TZNAME:EDT
END:DAYLIGHT
END:VTIMEZONE
BEGIN:VEVENT
SUMMARY:04/25: Closed for Private Event
DESCRIPTION:LBIF will be CLOSED on Saturday\, April 25 for a private eve
 nt.\n\nDrop-in ceramics is still available. Please enter through the cer
 amics door on the south side of the building.
URL;VALUE=URI:https://lbifoundation.org/events/04-25-closed-private-even
 t/
UID:urn:uuid:f04bd4a9-9a6c-4dda-b4aa-d7ee6fb235d1
STATUS:CONFIRMED
ORGANIZER:
DTSTAMP:20260424T181147Z
DTSTART;TZID=America/New_York:20260425T100000
DTEND;TZID=America/New_York:20260425T150000
LOCATION:120 Long Beach Boulevard
END:VEVENT
END:VCALENDAR