BEGIN:VCALENDAR
METHOD:PUBLISH
VERSION:2.0
CALSCALE:GREGORIAN
PRODID:-//NONSGML WPForms//NONSGML Sugar Calendar Feeds v3.11.0//EN
X-WR-CALNAME:2-Day-Portraiture-with-Edgar-Jerins
X-WR-CALDESC:The Long Beach Island Foundation
X-WR-TIMEZONE:America/New_York
BEGIN:VTIMEZONE
TZID:America/New_York
BEGIN:DAYLIGHT
TZOFFSETFROM:-0500
TZOFFSETTO:-0400
DTSTART:20260308T070000
TZNAME:EDT
END:DAYLIGHT
END:VTIMEZONE
BEGIN:VTIMEZONE
TZID:America/New_York
BEGIN:DAYLIGHT
TZOFFSETFROM:-0500
TZOFFSETTO:-0400
DTSTART:20260308T070000
TZNAME:EDT
END:DAYLIGHT
END:VTIMEZONE
BEGIN:VEVENT
SUMMARY:2-Day Portraiture with Edgar Jerins
DESCRIPTION:Day one will include an artist demonstration on the proporti
 ons of the face\, along with light\, shadow\, and life drawing skills. D
 ay two will focus on artists refining their drawings\, rendering hair\, 
 and adding color if they choose.\n\nONLY TEN SPOTS AVAILABLE
URL;VALUE=URI:https://lbifoundation.org/sc_recurring_event/2-day-portrai
 ture-with-edgar-jerins/
UID:urn:uuid:cb46f309-48db-43d5-9a37-1dd0e776b0c3
STATUS:CONFIRMED
ORGANIZER:
DTSTAMP:20260424T172500Z
DTSTART;TZID=America/New_York:20260713T090000
DTEND;TZID=America/New_York:20260713T120000
RRULE:FREQ=DAILY;INTERVAL=1;UNTIL=20260714T235959Z
LOCATION:120 Long Beach Boulevard
END:VEVENT
END:VCALENDAR