BEGIN:VCALENDAR
METHOD:PUBLISH
VERSION:2.0
CALSCALE:GREGORIAN
PRODID:-//NONSGML WPForms//NONSGML Sugar Calendar Feeds v3.11.0//EN
X-WR-CALNAME:Beginner Frame Loom Weaving with Courtney Salerno
X-WR-CALDESC:The Long Beach Island Foundation
X-WR-TIMEZONE:America/New_York
BEGIN:VTIMEZONE
TZID:America/New_York
BEGIN:DAYLIGHT
TZOFFSETFROM:-0500
TZOFFSETTO:-0400
DTSTART:20260308T070000
TZNAME:EDT
END:DAYLIGHT
END:VTIMEZONE
BEGIN:VTIMEZONE
TZID:America/New_York
BEGIN:DAYLIGHT
TZOFFSETFROM:-0500
TZOFFSETTO:-0400
DTSTART:20260308T070000
TZNAME:EDT
END:DAYLIGHT
END:VTIMEZONE
BEGIN:VEVENT
SUMMARY:Beginner Frame Loom Weaving with Courtney Salerno
DESCRIPTION:Discover the art of frame loom weaving in this beginner-frie
 ndly workshop led by Courtney Salerno. You'll how to set up your loom an
 d choosing yarns to mastering basic weaving techniques like plain weave\
 , rya knots\, and soumak. All materials included.\n\n$80.00 / session
URL;VALUE=URI:https://lbifoundation.org/events/beginner-frame-loom-weavi
 ng/
UID:urn:uuid:762a750b-b29b-4683-8fb7-ddc2968108b2
STATUS:CONFIRMED
ORGANIZER:
DTSTAMP:20260424T164719Z
DTSTART;TZID=America/New_York:20260707T110000
DTEND;TZID=America/New_York:20260707T140000
LOCATION:120 Long Beach Boulevard
END:VEVENT
END:VCALENDAR