BEGIN:VCALENDAR
METHOD:PUBLISH
VERSION:2.0
CALSCALE:GREGORIAN
PRODID:-//NONSGML WPForms//NONSGML Sugar Calendar Feeds v3.11.0//EN
X-WR-CALNAME:Beginner-Wheel-Session-Three
X-WR-CALDESC:The Long Beach Island Foundation
X-WR-TIMEZONE:America/New_York
BEGIN:VTIMEZONE
TZID:America/New_York
BEGIN:DAYLIGHT
TZOFFSETFROM:-0500
TZOFFSETTO:-0400
DTSTART:20260308T070000
TZNAME:EDT
END:DAYLIGHT
END:VTIMEZONE
BEGIN:VTIMEZONE
TZID:America/New_York
BEGIN:DAYLIGHT
TZOFFSETFROM:-0500
TZOFFSETTO:-0400
DTSTART:20260308T070000
TZNAME:EDT
END:DAYLIGHT
END:VTIMEZONE
BEGIN:VEVENT
SUMMARY:Beginner Wheel: Session Three
DESCRIPTION:In this beginner wheel pottery class\, students will be intr
 oduced to the fundamentals of working on the pottery wheel in a supporti
 ve\, hands-on environment. Participants will learn basic throwing techni
 ques\, trimming\, and simple surface decoration while building confidenc
 e and control with clay. Each week builds on the last\, allowing student
 s to practice skills and create utilitarian forms like bowls and cups. N
 o prior experience is required\, dress to get messy. (We recommend not w
 earing jewelry like rings and bracelets\, bringing an apron and/or towel
 \, and closed toe shoes.)\n\nFee: $295 per person
URL;VALUE=URI:https://lbifoundation.org/sc_recurring_event/beginner-whee
 l-session-three/
UID:urn:uuid:7c69110c-0fff-4f5c-9ed1-48628e6c170c
STATUS:CONFIRMED
ORGANIZER:
DTSTAMP:20260424T171259Z
DTSTART;TZID=America/New_York:20260820T180000
DTEND;TZID=America/New_York:20260820T203000
RRULE:FREQ=WEEKLY;INTERVAL=1;UNTIL=20260827T235959Z
LOCATION:120 Long Beach Boulevard
END:VEVENT
END:VCALENDAR