BEGIN:VCALENDAR
METHOD:PUBLISH
VERSION:2.0
CALSCALE:GREGORIAN
PRODID:-//NONSGML WPForms//NONSGML Sugar Calendar Feeds v3.11.0//EN
X-WR-CALNAME:Blooming Bouquet Beaded Bracelet with Jean Suleski
X-WR-CALDESC:The Long Beach Island Foundation
X-WR-TIMEZONE:America/New_York
BEGIN:VTIMEZONE
TZID:America/New_York
BEGIN:DAYLIGHT
TZOFFSETFROM:-0500
TZOFFSETTO:-0400
DTSTART:20260308T070000
TZNAME:EDT
END:DAYLIGHT
END:VTIMEZONE
BEGIN:VTIMEZONE
TZID:America/New_York
BEGIN:DAYLIGHT
TZOFFSETFROM:-0500
TZOFFSETTO:-0400
DTSTART:20260308T070000
TZNAME:EDT
END:DAYLIGHT
END:VTIMEZONE
BEGIN:VEVENT
SUMMARY:Blooming Bouquet Beaded Bracelet with Jean Suleski
DESCRIPTION:Join Jean Suleski in a beginner’s-friendly beading worksho
 p! Using Superduo beads\, Jean will guide you through bead weaving\, des
 igning the floral focal piece\, and attaching the concealed magnetic clo
 sure. $45 materials fee paid cash day-of to instructor.
URL;VALUE=URI:https://lbifoundation.org/events/blooming-bouquet-beaded-b
 racelet-jean-suleski/
UID:urn:uuid:c76c9282-50a3-43a4-83bc-8c40d3f36936
STATUS:CONFIRMED
ORGANIZER:
DTSTAMP:20260424T172320Z
DTSTART;TZID=America/New_York:20260617T110000
DTEND;TZID=America/New_York:20260617T140000
LOCATION:120 Long Beach Boulevard
END:VEVENT
END:VCALENDAR