BEGIN:VCALENDAR
METHOD:PUBLISH
VERSION:2.0
CALSCALE:GREGORIAN
PRODID:-//NONSGML WPForms//NONSGML Sugar Calendar Feeds v3.11.0//EN
X-WR-CALNAME:Braided Copper Fishtail Cuff
X-WR-CALDESC:The Long Beach Island Foundation
X-WR-TIMEZONE:America/New_York
BEGIN:VTIMEZONE
TZID:America/New_York
BEGIN:DAYLIGHT
TZOFFSETFROM:-0500
TZOFFSETTO:-0400
DTSTART:20260308T070000
TZNAME:EDT
END:DAYLIGHT
END:VTIMEZONE
BEGIN:VTIMEZONE
TZID:America/New_York
BEGIN:DAYLIGHT
TZOFFSETFROM:-0500
TZOFFSETTO:-0400
DTSTART:20260308T070000
TZNAME:EDT
END:DAYLIGHT
END:VTIMEZONE
BEGIN:VEVENT
SUMMARY:Braided Copper Fishtail Cuff
DESCRIPTION:Learn to create a custom fitted unisex fishtail copper cuff.
  Skills learned include measuring\, cutting\, fishtail braiding\, formin
 g\, hammering\, soldering\, polishing &amp\; optional oxidizing. $20 mat
 erials cost paid cash day-of to instructor.
URL;VALUE=URI:https://lbifoundation.org/events/braided-copper-fishtail-c
 uff/
UID:urn:uuid:7ec51105-1737-4a2f-b5cb-259318449737
STATUS:CONFIRMED
ORGANIZER:
DTSTAMP:20260424T170308Z
DTSTART;TZID=America/New_York:20260723T110000
DTEND;TZID=America/New_York:20260723T150000
LOCATION:120 Long Beach Boulevard
END:VEVENT
END:VCALENDAR