BEGIN:VCALENDAR
METHOD:PUBLISH
VERSION:2.0
CALSCALE:GREGORIAN
PRODID:-//NONSGML WPForms//NONSGML Sugar Calendar Feeds v3.11.0//EN
X-WR-CALNAME:Brains\, AI and Creativity Presented by Xaq Pitkow
X-WR-CALDESC:The Long Beach Island Foundation
X-WR-TIMEZONE:America/New_York
BEGIN:VTIMEZONE
TZID:America/New_York
BEGIN:DAYLIGHT
TZOFFSETFROM:-0500
TZOFFSETTO:-0400
DTSTART:20260308T070000
TZNAME:EDT
END:DAYLIGHT
END:VTIMEZONE
BEGIN:VTIMEZONE
TZID:America/New_York
BEGIN:DAYLIGHT
TZOFFSETFROM:-0500
TZOFFSETTO:-0400
DTSTART:20260308T070000
TZNAME:EDT
END:DAYLIGHT
END:VTIMEZONE
BEGIN:VEVENT
SUMMARY:Brains\, AI and Creativity Presented by Xaq Pitkow
DESCRIPTION:What do brains and AI actually have in common\, and how do t
 hey differ? Xaq will talk about cutting-edge research in neuroscience an
 d machine learning. On the AI side\, he'll talk about generative AI like
  Large Language Models and video generation\, and whether AI can truly b
 e creative. On the brain side\, he'll describe what we've learned from c
 utting-edge brain scanning technology that uses diamond knives\, electro
 n microscopes\, and glow-in-the-dark jellyfish.\n\nXaq Pitkow is a compu
 tational neuroscientist who uses mathematics to understand how brains an
 d AI work. He has a PhD in biophysics from Harvard\, and is currently an
  Associate Professor at Carnegie Mellon University. He is also the Assoc
 iate Director of the NSF AI Institute for Artificial and Natural Intelli
 gence. On the side\, he enjoys art and graphic design\, which turns out 
 to be very helpful when communicating about science.\n\n&nbsp\;
URL;VALUE=URI:https://lbifoundation.org/events/brains-ai-creativity-xaq-
 pitkow/
UID:urn:uuid:156fcd00-7eb2-4409-8cbb-a893614f25b5
STATUS:CONFIRMED
ORGANIZER:
DTSTAMP:20260424T161029Z
DTSTART;TZID=America/New_York:20260728T190000
DTEND;TZID=America/New_York:20260728T203000
LOCATION:120 Long Beach Boulevard
END:VEVENT
END:VCALENDAR