BEGIN:VCALENDAR
METHOD:PUBLISH
VERSION:2.0
CALSCALE:GREGORIAN
PRODID:-//NONSGML WPForms//NONSGML Sugar Calendar Feeds v3.11.0//EN
X-WR-CALNAME:Caroline Durieux: Atomic Bite with Michelle Donnelly\, PhD
X-WR-CALDESC:The Long Beach Island Foundation
X-WR-TIMEZONE:America/New_York
BEGIN:VTIMEZONE
TZID:America/New_York
BEGIN:DAYLIGHT
TZOFFSETFROM:-0500
TZOFFSETTO:-0400
DTSTART:20260308T070000
TZNAME:EDT
END:DAYLIGHT
END:VTIMEZONE
BEGIN:VTIMEZONE
TZID:America/New_York
BEGIN:DAYLIGHT
TZOFFSETFROM:-0500
TZOFFSETTO:-0400
DTSTART:20260308T070000
TZNAME:EDT
END:DAYLIGHT
END:VTIMEZONE
BEGIN:VEVENT
SUMMARY:Caroline Durieux: Atomic Bite with Michelle Donnelly\, PhD
DESCRIPTION:Coinciding with LBIF's COAST Reception\, Donnelly illuminate
 s Caroline Durieux's experimentation and subversive politics in and out 
 of the science lab. Trained at PAFA\, Durieux worked at the intersection
 s of art and science\, inventing "electron printing."\n\nMichelle Donnel
 ly is the Evelyn and Will Kaplan Curator of Twentieth Century Art and th
 e John Rhoden Collection at the Pennsylvania Academy of the Fine Arts (P
 AFA) in Philadelphia. Prior to joining PAFA\, she held curatorial positi
 ons at the Whitney Museum of American Art\, Yale Center for British Art\
 , Morgan Library &amp\; Museum\, Solomon R. Guggenheim Museum\, Brooklyn
  Museum\, and Heckscher Museum of Art. At the Whitney\, she curated Expe
 riments in Electrostatics: Photocopy Art from the Whitney's Collection\,
  1966–1986 (2017–18) and oversaw the Sondra Gilman Study Center for 
 works on paper. Her research has been supported by the Smithsonian Ameri
 can Art Museum\, Helen Frankenthaler Foundation\, Menil Dawing Institute
 \, and Bancroft Library\, among other institutions. She holds a PhD in t
 he History of Art from Yale University\, an MA in the History of Art fro
 m the University of Pennsylvania\, and a BA in Art History with Honors f
 rom Vassar College.
URL;VALUE=URI:https://lbifoundation.org/events/caroline-durieux-atomic-b
 ite-michelle-donnelly/
UID:urn:uuid:32cd7a29-f2e0-4843-b49b-3d62aa411179
STATUS:CONFIRMED
ORGANIZER:
DTSTAMP:20260424T165145Z
DTSTART;TZID=America/New_York:20260718T170000
DTEND;TZID=America/New_York:20260718T190000
LOCATION:120 Long Beach Boulevard
END:VEVENT
END:VCALENDAR