BEGIN:VCALENDAR
METHOD:PUBLISH
VERSION:2.0
CALSCALE:GREGORIAN
PRODID:-//NONSGML WPForms//NONSGML Sugar Calendar Feeds v3.11.0//EN
X-WR-CALNAME:Ceramic Berry Good Colander Mug
X-WR-CALDESC:The Long Beach Island Foundation
X-WR-TIMEZONE:America/New_York
BEGIN:VTIMEZONE
TZID:America/New_York
BEGIN:DAYLIGHT
TZOFFSETFROM:-0500
TZOFFSETTO:-0400
DTSTART:20260308T070000
TZNAME:EDT
END:DAYLIGHT
END:VTIMEZONE
BEGIN:VTIMEZONE
TZID:America/New_York
BEGIN:DAYLIGHT
TZOFFSETFROM:-0500
TZOFFSETTO:-0400
DTSTART:20260308T070000
TZNAME:EDT
END:DAYLIGHT
END:VTIMEZONE
BEGIN:VEVENT
SUMMARY:Ceramic Berry Good Colander Mug
DESCRIPTION:In this class we will create a berry colander mug that’s b
 oth playful and practical. Your colander mug will be the perfect size fo
 r a single serving of berries. Using hand-building techniques\, you’ll
  form the mug\, add a handle\, and create drainage holes for rinsing fru
 it. We’ll focus on shaping\, balance\, and functional details that mak
 e the piece comfortable and easy to use.\n\nFee: $60 per person
URL;VALUE=URI:https://lbifoundation.org/events/ceramic-colander-mug-08-1
 1/
UID:urn:uuid:d2cefdd4-86c3-4162-a7ba-b7c7acab8526
STATUS:CONFIRMED
ORGANIZER:
DTSTAMP:20260424T170437Z
DTSTART;TZID=America/New_York:20260811T150000
DTEND;TZID=America/New_York:20260811T170000
LOCATION:120 Long Beach Boulevard
END:VEVENT
END:VCALENDAR