BEGIN:VCALENDAR
METHOD:PUBLISH
VERSION:2.0
CALSCALE:GREGORIAN
PRODID:-//NONSGML WPForms//NONSGML Sugar Calendar Feeds v3.11.0//EN
X-WR-CALNAME:Ceramic Gnome Alone
X-WR-CALDESC:The Long Beach Island Foundation
X-WR-TIMEZONE:America/New_York
BEGIN:VTIMEZONE
TZID:America/New_York
BEGIN:DAYLIGHT
TZOFFSETFROM:-0500
TZOFFSETTO:-0400
DTSTART:20260308T070000
TZNAME:EDT
END:DAYLIGHT
END:VTIMEZONE
BEGIN:VTIMEZONE
TZID:America/New_York
BEGIN:DAYLIGHT
TZOFFSETFROM:-0500
TZOFFSETTO:-0400
DTSTART:20260308T070000
TZNAME:EDT
END:DAYLIGHT
END:VTIMEZONE
BEGIN:VEVENT
SUMMARY:Ceramic Gnome Alone
DESCRIPTION:In this class\, we will create a whimsical gnome using slab-
 building techniques and a cone form as the mold. We’ll build the body 
 from a slab\, then add facial features\, hats\, textures and fun details
  to bring your character to life. You’ll learn how to attach these det
 ails securely and refine surfaces for a clean finish.\n\nFee: $60 per pe
 rson
URL;VALUE=URI:https://lbifoundation.org/events/ceramic-gnome-alone-09-01
 /
UID:urn:uuid:63dc1c87-f6c2-411c-a9d8-4dd2b241123f
STATUS:CONFIRMED
ORGANIZER:
DTSTAMP:20260424T171333Z
DTSTART;TZID=America/New_York:20260901T150000
DTEND;TZID=America/New_York:20260901T170000
LOCATION:120 Long Beach Boulevard
END:VEVENT
END:VCALENDAR