BEGIN:VCALENDAR
METHOD:PUBLISH
VERSION:2.0
CALSCALE:GREGORIAN
PRODID:-//NONSGML WPForms//NONSGML Sugar Calendar Feeds v3.11.0//EN
X-WR-CALNAME:Ceramic Lanterns
X-WR-CALDESC:The Long Beach Island Foundation
X-WR-TIMEZONE:America/New_York
BEGIN:VTIMEZONE
TZID:America/New_York
BEGIN:DAYLIGHT
TZOFFSETFROM:-0500
TZOFFSETTO:-0400
DTSTART:20260308T070000
TZNAME:EDT
END:DAYLIGHT
END:VTIMEZONE
BEGIN:VTIMEZONE
TZID:America/New_York
BEGIN:DAYLIGHT
TZOFFSETFROM:-0500
TZOFFSETTO:-0400
DTSTART:20260308T070000
TZNAME:EDT
END:DAYLIGHT
END:VTIMEZONE
BEGIN:VEVENT
SUMMARY:Ceramic Lanterns
DESCRIPTION:This class focuses on creating handmade lanterns or luminari
 es using slab-building techniques. Participants will roll out their slab
 s and cut out the lantern pattern using the provided templates. They wil
 l then dry\, attach each piece and cut out designs that allow light to s
 hine through the finished piece.\n\nFee: $60 per person
URL;VALUE=URI:https://lbifoundation.org/events/ceramic-lanterns-08-25/
UID:urn:uuid:569a05f1-15ab-4781-a0ab-f3d322980086
STATUS:CONFIRMED
ORGANIZER:
DTSTAMP:20260424T171152Z
DTSTART;TZID=America/New_York:20260825T150000
DTEND;TZID=America/New_York:20260825T173000
LOCATION:120 Long Beach Boulevard
END:VEVENT
END:VCALENDAR