BEGIN:VCALENDAR
METHOD:PUBLISH
VERSION:2.0
CALSCALE:GREGORIAN
PRODID:-//NONSGML WPForms//NONSGML Sugar Calendar Feeds v3.11.0//EN
X-WR-CALNAME:Ceramic Tic Tac Toe Boards
X-WR-CALDESC:The Long Beach Island Foundation
X-WR-TIMEZONE:America/New_York
BEGIN:VTIMEZONE
TZID:America/New_York
BEGIN:DAYLIGHT
TZOFFSETFROM:-0500
TZOFFSETTO:-0400
DTSTART:20260308T070000
TZNAME:EDT
END:DAYLIGHT
END:VTIMEZONE
BEGIN:VTIMEZONE
TZID:America/New_York
BEGIN:DAYLIGHT
TZOFFSETFROM:-0500
TZOFFSETTO:-0400
DTSTART:20260308T070000
TZNAME:EDT
END:DAYLIGHT
END:VTIMEZONE
BEGIN:VEVENT
SUMMARY:Ceramic Tic Tac Toe Boards
DESCRIPTION:Join our instructor Christina to create your very own tic-ta
 c-toe board! Start with hand rolled slabs of clay to construct the board
 \, and create your own custom pieces with provided shapes and molds to s
 elect from. The project is easy for all ages\, and is a great opportunit
 y to bring the kids and parents together! Clay will not stain\, but reme
 mber to wear clothes you don’t mind getting messy in.\n\nFee: $45 per 
 person
URL;VALUE=URI:https://lbifoundation.org/events/ceramic-tic-tac-toe-board
 s-08-27/
UID:urn:uuid:30060624-29d8-441e-904a-83eb32bd0e8f
STATUS:CONFIRMED
ORGANIZER:
DTSTAMP:20260424T171458Z
DTSTART;TZID=America/New_York:20260827T150000
DTEND;TZID=America/New_York:20260827T170000
LOCATION:120 Long Beach Boulevard
END:VEVENT
END:VCALENDAR