BEGIN:VCALENDAR
METHOD:PUBLISH
VERSION:2.0
CALSCALE:GREGORIAN
PRODID:-//NONSGML WPForms//NONSGML Sugar Calendar Feeds v3.11.0//EN
X-WR-CALNAME:Ceramic Wall Pockets
X-WR-CALDESC:The Long Beach Island Foundation
X-WR-TIMEZONE:America/New_York
BEGIN:VTIMEZONE
TZID:America/New_York
BEGIN:DAYLIGHT
TZOFFSETFROM:-0500
TZOFFSETTO:-0400
DTSTART:20260308T070000
TZNAME:EDT
END:DAYLIGHT
END:VTIMEZONE
BEGIN:VTIMEZONE
TZID:America/New_York
BEGIN:DAYLIGHT
TZOFFSETFROM:-0500
TZOFFSETTO:-0400
DTSTART:20260308T070000
TZNAME:EDT
END:DAYLIGHT
END:VTIMEZONE
BEGIN:VEVENT
SUMMARY:Ceramic Wall Pockets
DESCRIPTION:In this class we will create 3 small functional one of a kin
 d wall pockets using slab-building techniques. We’ll roll and shape cl
 ay into slabs\, then cut\, assemble\, and texture them into a form desig
 ned to hang on the wall. You’ll learn how to join slabs securely\, ref
 ine edges\, and add decorative details. Finished pieces will be the perf
 ect holders for dried flowers or small plants.\n\nFee: $60 per person
URL;VALUE=URI:https://lbifoundation.org/events/ceramic-wall-pockets-06-0
 9/
UID:urn:uuid:96f43bac-f897-47b2-a840-65a924b5aa42
STATUS:CONFIRMED
ORGANIZER:
DTSTAMP:20260424T171152Z
DTSTART;TZID=America/New_York:20260609T150000
DTEND;TZID=America/New_York:20260609T170000
LOCATION:120 Long Beach Boulevard
END:VEVENT
END:VCALENDAR