BEGIN:VCALENDAR
METHOD:PUBLISH
VERSION:2.0
CALSCALE:GREGORIAN
PRODID:-//NONSGML WPForms//NONSGML Sugar Calendar Feeds v3.11.0//EN
X-WR-CALNAME:Ceramics-Reevaluated-Workshop
X-WR-CALDESC:The Long Beach Island Foundation
X-WR-TIMEZONE:America/New_York
BEGIN:VTIMEZONE
TZID:America/New_York
BEGIN:DAYLIGHT
TZOFFSETFROM:-0500
TZOFFSETTO:-0400
DTSTART:20260308T070000
TZNAME:EDT
END:DAYLIGHT
END:VTIMEZONE
BEGIN:VTIMEZONE
TZID:America/New_York
BEGIN:DAYLIGHT
TZOFFSETFROM:-0500
TZOFFSETTO:-0400
DTSTART:20260308T070000
TZNAME:EDT
END:DAYLIGHT
END:VTIMEZONE
BEGIN:VEVENT
SUMMARY:Ceramics Reevaluated Workshop
DESCRIPTION:Join LBIF’s Ceramic Studio Manager Jeff as he shares his c
 eramic knowledge and experiences. This weeklong workshop will cover the 
 basics of ceramics in an advanced capacity. We will be looking at the hi
 story of American ceramics to its current state. Reviewing materials\, p
 rocesses\, and firing techniques. Throwing\, trimming\, hand building an
 d glazing will be critiqued. This class is designed to improve students 
 work through problem solving and research. \nMon-Fri\, July 20th - 24th
 \, 9am-3:30pm\nFee: $500 per Resident/ $550 Member/ $600 non-Member
URL;VALUE=URI:https://lbifoundation.org/sc_recurring_event/ceramics-reev
 aluated-workshop/
UID:urn:uuid:2eb2a2c6-cd65-407a-a705-086cbd958cc7
STATUS:CONFIRMED
ORGANIZER:
DTSTAMP:20260424T171505Z
DTSTART;TZID=America/New_York:20260722T090000
DTEND;TZID=America/New_York:20260722T153000
RRULE:FREQ=DAILY;INTERVAL=1;UNTIL=20260724T235959Z
LOCATION:120 Long Beach Boulevard
END:VEVENT
END:VCALENDAR