BEGIN:VCALENDAR
METHOD:PUBLISH
VERSION:2.0
CALSCALE:GREGORIAN
PRODID:-//NONSGML WPForms//NONSGML Sugar Calendar Feeds v3.11.0//EN
X-WR-CALNAME:Collage or Decoupage? with Marijke Briggs
X-WR-CALDESC:The Long Beach Island Foundation
X-WR-TIMEZONE:America/New_York
BEGIN:VTIMEZONE
TZID:America/New_York
BEGIN:DAYLIGHT
TZOFFSETFROM:-0500
TZOFFSETTO:-0400
DTSTART:20260308T070000
TZNAME:EDT
END:DAYLIGHT
END:VTIMEZONE
BEGIN:VTIMEZONE
TZID:America/New_York
BEGIN:DAYLIGHT
TZOFFSETFROM:-0500
TZOFFSETTO:-0400
DTSTART:20260308T070000
TZNAME:EDT
END:DAYLIGHT
END:VTIMEZONE
BEGIN:VEVENT
SUMMARY:Collage or Decoupage? with Marijke Briggs
DESCRIPTION:Repurpose magazines\, books\, found objects and other 2-D ma
 terials into something entirely new! Participants will focus on creating
  a 2-dimensional collage or a 3-dimensional decoupaged object. Found mat
 erials such as photos\, fabric\, ribbon\, etc. welcome!\n\nCollage or De
 coupage? with Marijke Briggs\nFee: $40.00 / session
URL;VALUE=URI:https://lbifoundation.org/events/collage-decoupage-marijke
 -briggs/
UID:urn:uuid:7b9b3873-48d9-4b60-be1f-cf45e983de62
STATUS:CONFIRMED
ORGANIZER:
DTSTAMP:20260424T165016Z
DTSTART;TZID=America/New_York:20260803T120000
DTEND;TZID=America/New_York:20260803T143000
LOCATION:120 Long Beach Boulevard
END:VEVENT
END:VCALENDAR