BEGIN:VCALENDAR
METHOD:PUBLISH
VERSION:2.0
CALSCALE:GREGORIAN
PRODID:-//NONSGML WPForms//NONSGML Sugar Calendar Feeds v3.11.0//EN
X-WR-CALNAME:Drawing Using a Mindful Approach with Diane Grimes
X-WR-CALDESC:The Long Beach Island Foundation
X-WR-TIMEZONE:America/New_York
BEGIN:VTIMEZONE
TZID:America/New_York
BEGIN:DAYLIGHT
TZOFFSETFROM:-0500
TZOFFSETTO:-0400
DTSTART:20260308T070000
TZNAME:EDT
END:DAYLIGHT
END:VTIMEZONE
BEGIN:VTIMEZONE
TZID:America/New_York
BEGIN:DAYLIGHT
TZOFFSETFROM:-0500
TZOFFSETTO:-0400
DTSTART:20260308T070000
TZNAME:EDT
END:DAYLIGHT
END:VTIMEZONE
BEGIN:VEVENT
SUMMARY:Drawing Using a Mindful Approach with Diane Grimes
DESCRIPTION:Join Diane Grimes\, professor of art\, as she instructs a un
 ique drawing course that incorporates using mindfulness while exploring 
 a variety of drawing materials and drawing techniques. This course is op
 en to all\, as all can draw!\n\nDrawing Using a Mindful Approach with Di
 ane Grimes\nFee: $40.00 / session
URL;VALUE=URI:https://lbifoundation.org/events/drawing-mindful-approach-
 diane-grimes/
UID:urn:uuid:3ada8b86-3257-402e-8db5-be1ee12bcbf0
STATUS:CONFIRMED
ORGANIZER:
DTSTAMP:20260424T165027Z
DTSTART;TZID=America/New_York:20260715T110000
DTEND;TZID=America/New_York:20260715T130000
LOCATION:120 Long Beach Boulevard
END:VEVENT
END:VCALENDAR