BEGIN:VCALENDAR
METHOD:PUBLISH
VERSION:2.0
CALSCALE:GREGORIAN
PRODID:-//NONSGML WPForms//NONSGML Sugar Calendar Feeds v3.11.0//EN
X-WR-CALNAME:Drop-In-CeramicsFire-Me-Up
X-WR-CALDESC:The Long Beach Island Foundation
X-WR-TIMEZONE:America/New_York
BEGIN:VTIMEZONE
TZID:America/New_York
BEGIN:DAYLIGHT
TZOFFSETFROM:-0400
TZOFFSETTO:-0400
DTSTART:20260313T220000
TZNAME:EDT
END:DAYLIGHT
END:VTIMEZONE
BEGIN:VTIMEZONE
TZID:America/New_York
BEGIN:DAYLIGHT
TZOFFSETFROM:-0400
TZOFFSETTO:-0400
DTSTART:20260313T220000
TZNAME:EDT
END:DAYLIGHT
END:VTIMEZONE
BEGIN:VEVENT
SUMMARY:Drop-In Ceramics/Fire Me Up
DESCRIPTION:Join us in the Ceramic Studio and enjoy a relaxed\, creative
  environment. Those interested in ceramics can drop by and learn the bas
 ics of wheel-throwing and/or hand-building. Even experienced potters can
  drop by to utilize our fabulous studio. We also have pre-made ceramic i
 tems and you can choose to paint at your own pace. We have mugs\, bowls\
 , boxes\, figurines and much more! Drop-in ceramics is perfect for a day
  out with your family\, trying something new with friends\, rainy days a
 nd expanding your interest in the arts. Feel free to drop in at any time
 . Members doing Fire Me Up only pay for cost of piece.\nDrop-In Ceramics
 /Fire Me Up\nTime: Saturdays\; 10:00 am - 3:00 pm\nDrop-In Fee: $45 (for
  approx. 2hrs.) $35 for students and 18yrs and under\nFire Me Up Fee: $1
 5 plus cost of ceramic piece\nPay at the door
URL;VALUE=URI:https://lbifoundation.org/sc_recurring_event/drop-in-ceram
 ics-fire-me-up/
UID:urn:uuid:ce81db56-ef7c-4dd9-9596-c22c9f217d5a
STATUS:CONFIRMED
ORGANIZER:
DTSTAMP:20260424T172418Z
DTSTART;TZID=America/New_York:20260912T100000
DTEND;TZID=America/New_York:20260912T150000
RRULE:FREQ=WEEKLY;INTERVAL=1;UNTIL=20260912T235959Z
LOCATION:120 Long Beach Boulevard
END:VEVENT
END:VCALENDAR