BEGIN:VCALENDAR
METHOD:PUBLISH
VERSION:2.0
CALSCALE:GREGORIAN
PRODID:-//NONSGML WPForms//NONSGML Sugar Calendar Feeds v3.11.0//EN
X-WR-CALNAME:Eastern Brush Painting with Chung Fan-Chang
X-WR-CALDESC:The Long Beach Island Foundation
X-WR-TIMEZONE:America/New_York
BEGIN:VTIMEZONE
TZID:America/New_York
BEGIN:DAYLIGHT
TZOFFSETFROM:-0500
TZOFFSETTO:-0400
DTSTART:20260308T070000
TZNAME:EDT
END:DAYLIGHT
END:VTIMEZONE
BEGIN:VTIMEZONE
TZID:America/New_York
BEGIN:DAYLIGHT
TZOFFSETFROM:-0500
TZOFFSETTO:-0400
DTSTART:20260308T070000
TZNAME:EDT
END:DAYLIGHT
END:VTIMEZONE
BEGIN:VEVENT
SUMMARY:Eastern Brush Painting with Chung Fan-Chang
DESCRIPTION:Explore the traditional art of Eastern brush painting\, focu
 sing on balance and the harmony between ink\, water\, and paper. This co
 urse emphasizes mindfulness\, movement and the power of a single brushst
 roke to capture the essence of nature.
URL;VALUE=URI:https://lbifoundation.org/events/eastern-brush-painting-ch
 ung-fan-chang/
UID:urn:uuid:9e316a70-d6b3-4990-a39a-51f0b1ea1800
STATUS:CONFIRMED
ORGANIZER:
DTSTAMP:20260424T172320Z
DTSTART;TZID=America/New_York:20260903T100000
DTEND;TZID=America/New_York:20260903T120000
LOCATION:120 Long Beach Boulevard
END:VEVENT
END:VCALENDAR