BEGIN:VCALENDAR
METHOD:PUBLISH
VERSION:2.0
CALSCALE:GREGORIAN
PRODID:-//NONSGML WPForms//NONSGML Sugar Calendar Feeds v3.11.0//EN
X-WR-CALNAME:"An Element of Drama:" Making a Good Exhibition with Jeremi
 ah William McCarthy
X-WR-CALDESC:The Long Beach Island Foundation
X-WR-TIMEZONE:America/New_York
BEGIN:VTIMEZONE
TZID:America/New_York
BEGIN:DAYLIGHT
TZOFFSETFROM:-0500
TZOFFSETTO:-0400
DTSTART:20260308T070000
TZNAME:EDT
END:DAYLIGHT
END:VTIMEZONE
BEGIN:VTIMEZONE
TZID:America/New_York
BEGIN:DAYLIGHT
TZOFFSETFROM:-0500
TZOFFSETTO:-0400
DTSTART:20260308T070000
TZNAME:EDT
END:DAYLIGHT
END:VTIMEZONE
BEGIN:VEVENT
SUMMARY:"An Element of Drama:" Making a Good Exhibition with Jeremiah Wi
 lliam McCarthy
DESCRIPTION:Coinciding with LBIF's M+S+F Exhibition Reception\, McCarthy
  considers elements that make good exhibitions: relationships between ar
 tists and curators\, the role of drama and display in visual argumentati
 on\, and how to look at the overlooked. Q+A to follow.\n\nJeremiah Willi
 am McCarthy is presently chief curator and curator of American art at th
 e Zimmerli Art Museum at Rutgers.  Previously\, he was chief curator at
  The Westmoreland Museum of American Art and consulting curator for The 
 Pocantico Center of the Rockefeller Brothers Fund\, where he co-organize
 d "Inspired Encounters: Women Artists and the Legacies of Modern Art\," 
 the inaugural exhibition of the campus’s new David Rockefeller Creativ
 e Arts Center in Tarrytown\, NY. Before his work for The Fund\, he serve
 d as curator at the National Academy of Design and associate curator at 
 the American Federation of Arts. Additionally\, he has worked in the cur
 atorial and education departments of The Metropolitan Museum of Art and 
 the Solomon R. Guggenheim Museum\, and he was an inaugural teaching fell
 ow at The Frick Collection.
URL;VALUE=URI:https://lbifoundation.org/events/element-drama-making-good
 -exhibition-jeremiah-william-mccarthy/
UID:urn:uuid:bd750b9f-bd33-451b-9fe1-cc54fe76b833
STATUS:CONFIRMED
ORGANIZER:
DTSTAMP:20260424T165606Z
DTSTART;TZID=America/New_York:20260822T170000
DTEND;TZID=America/New_York:20260822T190000
LOCATION:120 Long Beach Boulevard
END:VEVENT
END:VCALENDAR