BEGIN:VCALENDAR
METHOD:PUBLISH
VERSION:2.0
CALSCALE:GREGORIAN
PRODID:-//NONSGML WPForms//NONSGML Sugar Calendar Feeds v3.11.0//EN
X-WR-CALNAME:Fairy Houses for the Family
X-WR-CALDESC:The Long Beach Island Foundation
X-WR-TIMEZONE:America/New_York
BEGIN:VTIMEZONE
TZID:America/New_York
BEGIN:DAYLIGHT
TZOFFSETFROM:-0400
TZOFFSETTO:-0400
DTSTART:20260319T040000
TZNAME:EDT
END:DAYLIGHT
END:VTIMEZONE
BEGIN:VTIMEZONE
TZID:America/New_York
BEGIN:DAYLIGHT
TZOFFSETFROM:-0400
TZOFFSETTO:-0400
DTSTART:20260319T040000
TZNAME:EDT
END:DAYLIGHT
END:VTIMEZONE
BEGIN:VEVENT
SUMMARY:Fairy Houses for the Family
DESCRIPTION:Looking for a family-friendly activity this summer? Join Chr
 istina to hand-build fairy houses! With this project\, we will go over s
 ome basic handbuilding techniques for their construction. Deriving inspi
 ration from nature and found objects\, each fairy house becomes a unique
  memento.\n\nFee: $50 per person
URL;VALUE=URI:https://lbifoundation.org/events/fairy-houses-family-09-17
 /
UID:urn:uuid:5fef5604-bed1-4259-af81-685770b86c27
STATUS:CONFIRMED
ORGANIZER:
DTSTAMP:20260424T172444Z
DTSTART;TZID=America/New_York:20260917T160000
DTEND;TZID=America/New_York:20260917T180000
LOCATION:120 Long Beach Boulevard
END:VEVENT
END:VCALENDAR