BEGIN:VCALENDAR
METHOD:PUBLISH
VERSION:2.0
CALSCALE:GREGORIAN
PRODID:-//NONSGML WPForms//NONSGML Sugar Calendar Feeds v3.11.0//EN
X-WR-CALNAME:Figure-Drawing-with-Diane-Grimes
X-WR-CALDESC:The Long Beach Island Foundation
X-WR-TIMEZONE:America/New_York
BEGIN:VTIMEZONE
TZID:America/New_York
BEGIN:DAYLIGHT
TZOFFSETFROM:-0500
TZOFFSETTO:-0400
DTSTART:20260308T070000
TZNAME:EDT
END:DAYLIGHT
END:VTIMEZONE
BEGIN:VTIMEZONE
TZID:America/New_York
BEGIN:DAYLIGHT
TZOFFSETFROM:-0500
TZOFFSETTO:-0400
DTSTART:20260308T070000
TZNAME:EDT
END:DAYLIGHT
END:VTIMEZONE
BEGIN:VEVENT
SUMMARY:Figure Drawing with Diane Grimes
DESCRIPTION:In this class\, you will learn about the proportions\, const
 ruction and mechanics of the figure\, with a focus on gesture and contou
 r drawing. Students will draw from the nude and/or draped live model. Al
 l serious artists\, beginner through advanced\, welcome.\n\nFigure Drawi
 ng with Diane Grimes\nFee: $50.00 / session
URL;VALUE=URI:https://lbifoundation.org/sc_recurring_event/figure-drawin
 g-diane-grimes/
UID:urn:uuid:a190c828-e314-4fce-90c5-b89d2c76a0c8
STATUS:CONFIRMED
ORGANIZER:
DTSTAMP:20260424T165729Z
DTSTART;TZID=America/New_York:20260731T103000
DTEND;TZID=America/New_York:20260731T123000
RRULE:FREQ=WEEKLY;INTERVAL=1;UNTIL=20260731T235959Z
LOCATION:120 Long Beach Boulevard
END:VEVENT
END:VCALENDAR