BEGIN:VCALENDAR
METHOD:PUBLISH
VERSION:2.0
CALSCALE:GREGORIAN
PRODID:-//NONSGML WPForms//NONSGML Sugar Calendar Feeds v3.11.0//EN
X-WR-CALNAME:Foraged Plant Printing on a Silk Pillowcase
X-WR-CALDESC:The Long Beach Island Foundation
X-WR-TIMEZONE:America/New_York
BEGIN:VTIMEZONE
TZID:America/New_York
BEGIN:DAYLIGHT
TZOFFSETFROM:-0500
TZOFFSETTO:-0400
DTSTART:20260308T070000
TZNAME:EDT
END:DAYLIGHT
END:VTIMEZONE
BEGIN:VTIMEZONE
TZID:America/New_York
BEGIN:DAYLIGHT
TZOFFSETFROM:-0500
TZOFFSETTO:-0400
DTSTART:20260308T070000
TZNAME:EDT
END:DAYLIGHT
END:VTIMEZONE
BEGIN:VEVENT
SUMMARY:Foraged Plant Printing on a Silk Pillowcase
DESCRIPTION:Students will learn the best practices for choosing and plac
 ing plant materials\, how to transfer the pattern onto silk\, and steami
 ng the project for permanence. The registration fee covers one standard 
 size silk charmeuse pillowcase and plant materials.\n\nForaged Plant Pri
 nting on a Silk Pillowcase with Maria Maurio\nFee: $155.00 / session
URL;VALUE=URI:https://lbifoundation.org/events/foraged-plant-printing-si
 lk-pillowcase/
UID:urn:uuid:22674c26-306c-47de-9bb6-d9de0c1bc774
STATUS:CONFIRMED
ORGANIZER:
DTSTAMP:20260424T165124Z
DTSTART;TZID=America/New_York:20260702T100000
DTEND;TZID=America/New_York:20260702T133000
LOCATION:120 Long Beach Boulevard
END:VEVENT
END:VCALENDAR