BEGIN:VCALENDAR
METHOD:PUBLISH
VERSION:2.0
CALSCALE:GREGORIAN
PRODID:-//NONSGML WPForms//NONSGML Sugar Calendar Feeds v3.11.0//EN
X-WR-CALNAME:Herringbone Tila Beaded Bracelet with Jean Suleski
X-WR-CALDESC:The Long Beach Island Foundation
X-WR-TIMEZONE:America/New_York
BEGIN:VTIMEZONE
TZID:America/New_York
BEGIN:DAYLIGHT
TZOFFSETFROM:-0500
TZOFFSETTO:-0400
DTSTART:20260308T070000
TZNAME:EDT
END:DAYLIGHT
END:VTIMEZONE
BEGIN:VTIMEZONE
TZID:America/New_York
BEGIN:DAYLIGHT
TZOFFSETFROM:-0500
TZOFFSETTO:-0400
DTSTART:20260308T070000
TZNAME:EDT
END:DAYLIGHT
END:VTIMEZONE
BEGIN:VEVENT
SUMMARY:Herringbone Tila Beaded Bracelet with Jean Suleski
DESCRIPTION:Learn how to make the perfect summer beaded bracelet\, using
  Superduo and Tila beads. Various braiding techniques discussed\, with a
  focus on herringbone stitch\, and the differences in bead shapes to ach
 ieve certain patterns. $45 materials cost paid day-of
URL;VALUE=URI:https://lbifoundation.org/events/herringbone-tila-beaded-b
 racelet-jean-suleski/
UID:urn:uuid:c2eb5866-d634-4130-ae21-81698822a85c
STATUS:CONFIRMED
ORGANIZER:
DTSTAMP:20260424T172320Z
DTSTART;TZID=America/New_York:20260722T110000
DTEND;TZID=America/New_York:20260722T140000
LOCATION:120 Long Beach Boulevard
END:VEVENT
END:VCALENDAR