BEGIN:VCALENDAR
METHOD:PUBLISH
VERSION:2.0
CALSCALE:GREGORIAN
PRODID:-//NONSGML WPForms//NONSGML Sugar Calendar Feeds v3.11.0//EN
X-WR-CALNAME:IntermediateAdvanced-Ceramics-Drop-In
X-WR-CALDESC:The Long Beach Island Foundation
X-WR-TIMEZONE:America/New_York
BEGIN:VTIMEZONE
TZID:America/New_York
BEGIN:DAYLIGHT
TZOFFSETFROM:-0500
TZOFFSETTO:-0400
DTSTART:20260308T070000
TZNAME:EDT
END:DAYLIGHT
END:VTIMEZONE
BEGIN:VTIMEZONE
TZID:America/New_York
BEGIN:DAYLIGHT
TZOFFSETFROM:-0500
TZOFFSETTO:-0400
DTSTART:20260308T070000
TZNAME:EDT
END:DAYLIGHT
END:VTIMEZONE
BEGIN:VEVENT
SUMMARY:Intermediate/Advanced Ceramics Drop-In
DESCRIPTION:A directed studio environment where ideas and challenges are
  brought to the table and problem solved. Demos and lectures are provide
 d as needed. The goal of this class is to make your ceramic visions a re
 ality. The class is taught by our ceramic studio manager\, Jeff.\n\nInte
 rmediate/Advanced Ceramics Drop-In\nTime: Tuesday\; 10:00 am - 12:00 pm\
 nFee: $70 per person
URL;VALUE=URI:https://lbifoundation.org/sc_recurring_event/intermediate-
 advanced-ceramics-drop-in/
UID:urn:uuid:654d8f71-16d2-45cc-ac64-31f9eac57adc
STATUS:CONFIRMED
ORGANIZER:
DTSTAMP:20260424T171556Z
DTSTART;TZID=America/New_York:20260811T100000
DTEND;TZID=America/New_York:20260811T120000
RRULE:FREQ=WEEKLY;INTERVAL=1;UNTIL=20260908T235959Z
LOCATION:120 Long Beach Boulevard
END:VEVENT
END:VCALENDAR