BEGIN:VCALENDAR
METHOD:PUBLISH
VERSION:2.0
CALSCALE:GREGORIAN
PRODID:-//NONSGML WPForms//NONSGML Sugar Calendar Feeds v3.11.0//EN
X-WR-CALNAME:Landscape Paintings of Waterlilies with Linda Ramsay
X-WR-CALDESC:The Long Beach Island Foundation
X-WR-TIMEZONE:America/New_York
BEGIN:VTIMEZONE
TZID:America/New_York
BEGIN:DAYLIGHT
TZOFFSETFROM:-0500
TZOFFSETTO:-0400
DTSTART:20260308T070000
TZNAME:EDT
END:DAYLIGHT
END:VTIMEZONE
BEGIN:VTIMEZONE
TZID:America/New_York
BEGIN:DAYLIGHT
TZOFFSETFROM:-0500
TZOFFSETTO:-0400
DTSTART:20260308T070000
TZNAME:EDT
END:DAYLIGHT
END:VTIMEZONE
BEGIN:VEVENT
SUMMARY:Landscape Paintings of Waterlilies with Linda Ramsay
DESCRIPTION:Join Linda Ramsay as she offers tips and pointers to improve
  work while enjoying instructed studio time overlooking the beautiful Ba
 rnegat Bay marsh. Class will focus on capturing the flowers on water as 
 they disappear in perspective.\n\nLandscape Paintings of Waterlilies wit
 h Linda Ramsay\nFee: $45.00 / session
URL;VALUE=URI:https://lbifoundation.org/events/landscape-paintings-water
 lilies-linda-ramsay/
UID:urn:uuid:9212d891-9439-4a6e-8a66-cc9b80901d01
STATUS:CONFIRMED
ORGANIZER:
DTSTAMP:20260424T170656Z
DTSTART;TZID=America/New_York:20260730T093000
DTEND;TZID=America/New_York:20260730T123000
LOCATION:120 Long Beach Boulevard
END:VEVENT
END:VCALENDAR