BEGIN:VCALENDAR
METHOD:PUBLISH
VERSION:2.0
CALSCALE:GREGORIAN
PRODID:-//NONSGML WPForms//NONSGML Sugar Calendar Feeds v3.11.0//EN
X-WR-CALNAME:Learn to Block Print: Card Workshop
X-WR-CALDESC:The Long Beach Island Foundation
X-WR-TIMEZONE:America/New_York
BEGIN:VTIMEZONE
TZID:America/New_York
BEGIN:DAYLIGHT
TZOFFSETFROM:-0500
TZOFFSETTO:-0400
DTSTART:20260308T070000
TZNAME:EDT
END:DAYLIGHT
END:VTIMEZONE
BEGIN:VTIMEZONE
TZID:America/New_York
BEGIN:DAYLIGHT
TZOFFSETFROM:-0500
TZOFFSETTO:-0400
DTSTART:20260308T070000
TZNAME:EDT
END:DAYLIGHT
END:VTIMEZONE
BEGIN:VEVENT
SUMMARY:Learn to Block Print: Card Workshop
DESCRIPTION:Each participant will be able to choose from several provide
 d designs or design your own 4 x 6 inch to carve! You will then learn ho
 w to transfer\, carve\, and print your artwork onto cards. All levels we
 lcome!\n\nLearn to Block Print: Card Workshop with Beach Block Prints\nF
 ee: $50.00 / session
URL;VALUE=URI:https://lbifoundation.org/events/learn-block-print-card-wo
 rkshop-08-13/
UID:urn:uuid:84f894ef-7f0c-4dbb-88bc-94735abe407e
STATUS:CONFIRMED
ORGANIZER:
DTSTAMP:20260424T164853Z
DTSTART;TZID=America/New_York:20260813T110000
DTEND;TZID=America/New_York:20260813T140000
LOCATION:120 Long Beach Boulevard
END:VEVENT
END:VCALENDAR