BEGIN:VCALENDAR
METHOD:PUBLISH
VERSION:2.0
CALSCALE:GREGORIAN
PRODID:-//NONSGML WPForms//NONSGML Sugar Calendar Feeds v3.11.0//EN
X-WR-CALNAME:Macrame Tahitian Pearl Necklace
X-WR-CALDESC:The Long Beach Island Foundation
X-WR-TIMEZONE:America/New_York
BEGIN:VTIMEZONE
TZID:America/New_York
BEGIN:DAYLIGHT
TZOFFSETFROM:-0500
TZOFFSETTO:-0400
DTSTART:20260308T070000
TZNAME:EDT
END:DAYLIGHT
END:VTIMEZONE
BEGIN:VTIMEZONE
TZID:America/New_York
BEGIN:DAYLIGHT
TZOFFSETFROM:-0500
TZOFFSETTO:-0400
DTSTART:20260308T070000
TZNAME:EDT
END:DAYLIGHT
END:VTIMEZONE
BEGIN:VEVENT
SUMMARY:Macrame Tahitian Pearl Necklace
DESCRIPTION:Create a beautiful knotted pearl necklace using the half-hit
 ch knot\, securing with a custom length necklace on heavy silk cording. 
 Choice of pearl and finished with a sterling silver lobster claw clasp. 
 $35 materials cost paid cash day-of to instructor.
URL;VALUE=URI:https://lbifoundation.org/events/macrame-tahitian-pearl-ne
 cklace/
UID:urn:uuid:523d243c-4fb6-4e2a-a9a7-043af4a6a316
STATUS:CONFIRMED
ORGANIZER:
DTSTAMP:20260424T171556Z
DTSTART;TZID=America/New_York:20260806T110000
DTEND;TZID=America/New_York:20260806T150000
LOCATION:120 Long Beach Boulevard
END:VEVENT
END:VCALENDAR