BEGIN:VCALENDAR
METHOD:PUBLISH
VERSION:2.0
CALSCALE:GREGORIAN
PRODID:-//NONSGML WPForms//NONSGML Sugar Calendar Feeds v3.11.0//EN
X-WR-CALNAME:Marbling Paper with Cathy LeCleire
X-WR-CALDESC:The Long Beach Island Foundation
X-WR-TIMEZONE:America/New_York
BEGIN:VTIMEZONE
TZID:America/New_York
BEGIN:DAYLIGHT
TZOFFSETFROM:-0500
TZOFFSETTO:-0400
DTSTART:20260308T070000
TZNAME:EDT
END:DAYLIGHT
END:VTIMEZONE
BEGIN:VTIMEZONE
TZID:America/New_York
BEGIN:DAYLIGHT
TZOFFSETFROM:-0500
TZOFFSETTO:-0400
DTSTART:20260308T070000
TZNAME:EDT
END:DAYLIGHT
END:VTIMEZONE
BEGIN:VEVENT
SUMMARY:Marbling Paper with Cathy LeCleire
DESCRIPTION:Learn to make your own decorative papers through the traditi
 onal marbling technique. The floating paints are swirled into patterns a
 nd the design is captured by laying paper on the surface of the marbling
  solution. $15 materials fee payable day-of.\n\nMarbling Paper with Cath
 y LeCleire\nFee: $40.00 / session
URL;VALUE=URI:https://lbifoundation.org/events/marbling-paper-cathy-lecl
 eire/
UID:urn:uuid:acb358cc-f5ff-400f-a8c5-c9ecb7a5abc7
STATUS:CONFIRMED
ORGANIZER:
DTSTAMP:20260424T165124Z
DTSTART;TZID=America/New_York:20260714T123000
DTEND;TZID=America/New_York:20260714T153000
LOCATION:120 Long Beach Boulevard
END:VEVENT
END:VCALENDAR