BEGIN:VCALENDAR
METHOD:PUBLISH
VERSION:2.0
CALSCALE:GREGORIAN
PRODID:-//NONSGML WPForms//NONSGML Sugar Calendar Feeds v3.11.0//EN
X-WR-CALNAME:Natural Dyeing and Hand Printing for Beginners
X-WR-CALDESC:The Long Beach Island Foundation
X-WR-TIMEZONE:America/New_York
BEGIN:VTIMEZONE
TZID:America/New_York
BEGIN:DAYLIGHT
TZOFFSETFROM:-0500
TZOFFSETTO:-0400
DTSTART:20260308T070000
TZNAME:EDT
END:DAYLIGHT
END:VTIMEZONE
BEGIN:VTIMEZONE
TZID:America/New_York
BEGIN:DAYLIGHT
TZOFFSETFROM:-0500
TZOFFSETTO:-0400
DTSTART:20260308T070000
TZNAME:EDT
END:DAYLIGHT
END:VTIMEZONE
BEGIN:VEVENT
SUMMARY:Natural Dyeing and Hand Printing for Beginners
DESCRIPTION:This natural dye workshop will focus on the science of shift
 ing natural colors and hand-printing techniques using an all natural pri
 nting paste. Knowledge of natural dyes and printing showcased on two org
 anic pre-mordanted cotton dinner napkins.\n\nNatural Dyeing and Hand Pri
 nting for Beginners with Maria Maurio\n\n\nFee: $125.00 / session
URL;VALUE=URI:https://lbifoundation.org/events/natural-dyeing-hand-print
 ing-beginners/
UID:urn:uuid:8cdad740-1d6a-470e-ab0a-fc7bbd67eba6
STATUS:CONFIRMED
ORGANIZER:
DTSTAMP:20260424T165027Z
DTSTART;TZID=America/New_York:20260623T100000
DTEND;TZID=America/New_York:20260623T130000
LOCATION:120 Long Beach Boulevard
END:VEVENT
END:VCALENDAR