BEGIN:VCALENDAR
METHOD:PUBLISH
VERSION:2.0
CALSCALE:GREGORIAN
PRODID:-//NONSGML WPForms//NONSGML Sugar Calendar Feeds v3.11.0//EN
X-WR-CALNAME:Nature's Pattern: Patterns in Architecture Presented by Sam
  Gordon
X-WR-CALDESC:The Long Beach Island Foundation
X-WR-TIMEZONE:America/New_York
BEGIN:VTIMEZONE
TZID:America/New_York
BEGIN:DAYLIGHT
TZOFFSETFROM:-0500
TZOFFSETTO:-0400
DTSTART:20260308T070000
TZNAME:EDT
END:DAYLIGHT
END:VTIMEZONE
BEGIN:VTIMEZONE
TZID:America/New_York
BEGIN:DAYLIGHT
TZOFFSETFROM:-0500
TZOFFSETTO:-0400
DTSTART:20260308T070000
TZNAME:EDT
END:DAYLIGHT
END:VTIMEZONE
BEGIN:VEVENT
SUMMARY:Nature's Pattern: Patterns in Architecture Presented by Sam Gord
 on
DESCRIPTION:Local architect Samuel Gordon will be discussing the interse
 ctions of patterns in nature\, client requirements and site that shape a
 rchitecture to create sensitive homes.
URL;VALUE=URI:https://lbifoundation.org/events/natures-pattern-architect
 ure-sam-gordon/
UID:urn:uuid:dfd4e71e-4a21-4b6a-8c8f-82ab2d92d22d
STATUS:CONFIRMED
ORGANIZER:
DTSTAMP:20260424T164743Z
DTSTART;TZID=America/New_York:20260730T170000
DTEND;TZID=America/New_York:20260730T190000
LOCATION:120 Long Beach Boulevard
END:VEVENT
END:VCALENDAR