BEGIN:VCALENDAR
METHOD:PUBLISH
VERSION:2.0
CALSCALE:GREGORIAN
PRODID:-//NONSGML WPForms//NONSGML Sugar Calendar Feeds v3.11.0//EN
X-WR-CALNAME:Needle Felting with Deedie Weaver
X-WR-CALDESC:The Long Beach Island Foundation
X-WR-TIMEZONE:America/New_York
BEGIN:VTIMEZONE
TZID:America/New_York
BEGIN:DAYLIGHT
TZOFFSETFROM:-0500
TZOFFSETTO:-0400
DTSTART:20260308T070000
TZNAME:EDT
END:DAYLIGHT
END:VTIMEZONE
BEGIN:VTIMEZONE
TZID:America/New_York
BEGIN:DAYLIGHT
TZOFFSETFROM:-0500
TZOFFSETTO:-0400
DTSTART:20260308T070000
TZNAME:EDT
END:DAYLIGHT
END:VTIMEZONE
BEGIN:VEVENT
SUMMARY:Needle Felting with Deedie Weaver
DESCRIPTION:Create your own needle felted fish figurine! Using brightly 
 colored dyed wool\, you will learn the basics of needle felting and how 
 to manipulate the needles\, the wool and how the two interact. Your choi
 ce of the kind of fish you would like to felt.\n\nNeedle Felting with De
 edie Weaver\nFee: $57.00 / session
URL;VALUE=URI:https://lbifoundation.org/events/needle-felting-deedie-wea
 ver-07-23/
UID:urn:uuid:4654b140-5d8c-4e9d-9033-14133bc08efe
STATUS:CONFIRMED
ORGANIZER:
DTSTAMP:20260424T170022Z
DTSTART;TZID=America/New_York:20260723T100000
DTEND;TZID=America/New_York:20260723T120000
LOCATION:120 Long Beach Boulevard
END:VEVENT
END:VCALENDAR