BEGIN:VCALENDAR
METHOD:PUBLISH
VERSION:2.0
CALSCALE:GREGORIAN
PRODID:-//NONSGML WPForms//NONSGML Sugar Calendar Feeds v3.11.0//EN
X-WR-CALNAME:Paint + Sip with Anna Yates Krain
X-WR-CALDESC:The Long Beach Island Foundation
X-WR-TIMEZONE:America/New_York
BEGIN:VTIMEZONE
TZID:America/New_York
BEGIN:DAYLIGHT
TZOFFSETFROM:-0500
TZOFFSETTO:-0400
DTSTART:20260308T070000
TZNAME:EDT
END:DAYLIGHT
END:VTIMEZONE
BEGIN:VTIMEZONE
TZID:America/New_York
BEGIN:DAYLIGHT
TZOFFSETFROM:-0500
TZOFFSETTO:-0400
DTSTART:20260308T070000
TZNAME:EDT
END:DAYLIGHT
END:VTIMEZONE
BEGIN:VEVENT
SUMMARY:Paint + Sip with Anna Yates Krain
DESCRIPTION:Join Anna Yates Krain for our Paint and Sip series inspired 
 by works on the LBIF Gallery walls! Walk through the gallery and enjoy c
 reative conversation while Anna guides you through step-by-step painting
 s. BYO your favorite sip for extra inspiration.\n\nPaint + Sip with Anna
  Yates Krain\nFee: $45.00 / session
URL;VALUE=URI:https://lbifoundation.org/events/paint-sip-anna-yates-krai
 n-07-20/
UID:urn:uuid:684b5fa6-8d56-4ed4-97f9-64284039a514
STATUS:CONFIRMED
ORGANIZER:
DTSTAMP:20260424T165827Z
DTSTART;TZID=America/New_York:20260720T160000
DTEND;TZID=America/New_York:20260720T180000
LOCATION:120 Long Beach Boulevard
END:VEVENT
END:VCALENDAR