BEGIN:VCALENDAR
METHOD:PUBLISH
VERSION:2.0
CALSCALE:GREGORIAN
PRODID:-//NONSGML WPForms//NONSGML Sugar Calendar Feeds v3.11.0//EN
X-WR-CALNAME:Pastel Drawing with Chung-Fan-Chang
X-WR-CALDESC:The Long Beach Island Foundation
X-WR-TIMEZONE:America/New_York
BEGIN:VTIMEZONE
TZID:America/New_York
BEGIN:DAYLIGHT
TZOFFSETFROM:-0500
TZOFFSETTO:-0400
DTSTART:20260308T070000
TZNAME:EDT
END:DAYLIGHT
END:VTIMEZONE
BEGIN:VTIMEZONE
TZID:America/New_York
BEGIN:DAYLIGHT
TZOFFSETFROM:-0500
TZOFFSETTO:-0400
DTSTART:20260308T070000
TZNAME:EDT
END:DAYLIGHT
END:VTIMEZONE
BEGIN:VEVENT
SUMMARY:Pastel Drawing with Chung-Fan-Chang
DESCRIPTION:Participants will explore the art of color\, texture\, and l
 ight\, learning how to blend\, layer\, and manipulate pastels to create 
 rich\, expressive works of art. Participants will also learn traditional
  techniques and methods to improve their drawing skills.
URL;VALUE=URI:https://lbifoundation.org/events/pastel-drawing-chung-fan-
 chang/
UID:urn:uuid:9df792f9-d3ad-4479-a744-bf6fac70d083
STATUS:CONFIRMED
ORGANIZER:
DTSTAMP:20260424T172058Z
DTSTART;TZID=America/New_York:20260825T100000
DTEND;TZID=America/New_York:20260825T120000
LOCATION:120 Long Beach Boulevard
END:VEVENT
END:VCALENDAR