BEGIN:VCALENDAR
METHOD:PUBLISH
VERSION:2.0
CALSCALE:GREGORIAN
PRODID:-//NONSGML WPForms//NONSGML Sugar Calendar Feeds v3.11.0//EN
X-WR-CALNAME:Pastel-Painting-with-Renee-Leopardi
X-WR-CALDESC:The Long Beach Island Foundation
X-WR-TIMEZONE:America/New_York
BEGIN:VTIMEZONE
TZID:America/New_York
BEGIN:DAYLIGHT
TZOFFSETFROM:-0500
TZOFFSETTO:-0400
DTSTART:20260308T070000
TZNAME:EDT
END:DAYLIGHT
END:VTIMEZONE
BEGIN:VTIMEZONE
TZID:America/New_York
BEGIN:DAYLIGHT
TZOFFSETFROM:-0500
TZOFFSETTO:-0400
DTSTART:20260308T070000
TZNAME:EDT
END:DAYLIGHT
END:VTIMEZONE
BEGIN:VEVENT
SUMMARY:Pastel Painting with Renee Leopardi
DESCRIPTION:This class will focus on the movement and colors we see from
  our amazing beaches on LBI. We’ll discuss the basics of pastel painti
 ng as well as exploring techniques and underpainting. All levels welcome
 !\n\nPastel Painting with Renee Leopardi\nFee: $45.00 / session
URL;VALUE=URI:https://lbifoundation.org/sc_recurring_event/pastel-painti
 ng-renee-leopardi/
UID:urn:uuid:d5f0fa65-ca68-41df-8853-abd45e0a2617
STATUS:CONFIRMED
ORGANIZER:
DTSTAMP:20260424T170758Z
DTSTART;TZID=America/New_York:20260728T130000
DTEND;TZID=America/New_York:20260728T160000
RRULE:FREQ=WEEKLY;INTERVAL=1;UNTIL=20260811T235959Z
LOCATION:120 Long Beach Boulevard
END:VEVENT
END:VCALENDAR