BEGIN:VCALENDAR
METHOD:PUBLISH
VERSION:2.0
CALSCALE:GREGORIAN
PRODID:-//NONSGML WPForms//NONSGML Sugar Calendar Feeds v3.11.0//EN
X-WR-CALNAME:Plein Air Painting Today with Peter Trippi
X-WR-CALDESC:The Long Beach Island Foundation
X-WR-TIMEZONE:America/New_York
BEGIN:VTIMEZONE
TZID:America/New_York
BEGIN:DAYLIGHT
TZOFFSETFROM:-0400
TZOFFSETTO:-0400
DTSTART:20260315T040000
TZNAME:EDT
END:DAYLIGHT
END:VTIMEZONE
BEGIN:VTIMEZONE
TZID:America/New_York
BEGIN:DAYLIGHT
TZOFFSETFROM:-0400
TZOFFSETTO:-0400
DTSTART:20260315T040000
TZNAME:EDT
END:DAYLIGHT
END:VTIMEZONE
BEGIN:VEVENT
SUMMARY:Plein Air Painting Today with Peter Trippi
DESCRIPTION:The field of plein air painting is booming in America today.
  Now is an ideal moment to explore why it has captivated so many people\
 , where the hotspots are\, and what we all can do to encourage and suppo
 rt talented practitioners nationwide.\n\nPeter Trippi is editor-in-chief
  of Fine Art Connoisseur\, the national magazine that serves collectors
  of contemporary and historical realist art\, and president of Projects 
 in 19th-Century Art\, a firm he established to pursue research\, writing
 \, and curating opportunities. Peter previously directed the Dahesh Muse
 um of Art (New York City)\, headed development teams at the Brooklyn Mus
 eum and Baltimore Museum of Art\, and created international touring exhi
 bitions and publications devoted to the 19th-century painters J.W. Water
 house and Lawrence Alma-Tadema. In 2021\, he co-curated the exhibition 
 Artful Stories: Paintings from Historic New England at the Eustis Estat
 e in Milton\, Massachusetts. Peter's most recent curatorial project\, th
 e exhibition Pre-Raphaelites: A Modern Renaissance\, attracted 120\,00
 0 visitors to the Museo San Domenico near Bologna\, Italy in 2024.
URL;VALUE=URI:https://lbifoundation.org/events/plein-air-painting-today-
 peter-trippi/
UID:urn:uuid:2ea6756f-30c0-4fa7-ab0e-99d2b84bfb42
STATUS:CONFIRMED
ORGANIZER:
DTSTAMP:20260424T170819Z
DTSTART;TZID=America/New_York:20260913T160000
DTEND;TZID=America/New_York:20260913T180000
LOCATION:120 Long Beach Boulevard
END:VEVENT
END:VCALENDAR