BEGIN:VCALENDAR
METHOD:PUBLISH
VERSION:2.0
CALSCALE:GREGORIAN
PRODID:-//NONSGML WPForms//NONSGML Sugar Calendar Feeds v3.11.0//EN
X-WR-CALNAME:Plein Air on the Shore with Garin Baker Copy
X-WR-CALDESC:The Long Beach Island Foundation
X-WR-TIMEZONE:America/New_York
BEGIN:VTIMEZONE
TZID:America/New_York
BEGIN:DAYLIGHT
TZOFFSETFROM:-0500
TZOFFSETTO:-0400
DTSTART:20260308T070000
TZNAME:EDT
END:DAYLIGHT
END:VTIMEZONE
BEGIN:VTIMEZONE
TZID:America/New_York
BEGIN:DAYLIGHT
TZOFFSETFROM:-0500
TZOFFSETTO:-0400
DTSTART:20260308T070000
TZNAME:EDT
END:DAYLIGHT
END:VTIMEZONE
BEGIN:VEVENT
SUMMARY:Plein Air on the Shore with Garin Baker Copy
DESCRIPTION:Capture the brilliance of light during the early morning and
  late afternoon while overlooking 22-acres of protected marsh. You will 
 focus on staging and completing several Plein Air Paintings.\n\nDay One:
  6:30AM-10AM AND 5PM-8PM\nDay Two: 6:30AM-10AM
URL;VALUE=URI:https://lbifoundation.org/events/plein-air-shore-garin-bak
 er-03/
UID:urn:uuid:d70ec780-d301-4354-bd32-ed2571a2db3e
STATUS:CONFIRMED
ORGANIZER:
DTSTAMP:20260424T172206Z
DTSTART;TZID=America/New_York:20260803T063000
DTEND;TZID=America/New_York:20260803T100000
END:VEVENT
END:VCALENDAR