BEGIN:VCALENDAR
METHOD:PUBLISH
VERSION:2.0
CALSCALE:GREGORIAN
PRODID:-//NONSGML WPForms//NONSGML Sugar Calendar Feeds v3.11.0//EN
X-WR-CALNAME:Fundamentals-of-Portraiture-with-Paul-DuSold
X-WR-CALDESC:The Long Beach Island Foundation
X-WR-TIMEZONE:America/New_York
BEGIN:VTIMEZONE
TZID:America/New_York
BEGIN:DAYLIGHT
TZOFFSETFROM:-0500
TZOFFSETTO:-0400
DTSTART:20260308T070000
TZNAME:EDT
END:DAYLIGHT
END:VTIMEZONE
BEGIN:VTIMEZONE
TZID:America/New_York
BEGIN:DAYLIGHT
TZOFFSETFROM:-0500
TZOFFSETTO:-0400
DTSTART:20260308T070000
TZNAME:EDT
END:DAYLIGHT
END:VTIMEZONE
BEGIN:VEVENT
SUMMARY:Fundamentals of Portraiture with Paul DuSold
DESCRIPTION:In this 2-day workshop\, students will learn the fundamental
 s of achieving a likeness in portrait painting. Observation of feature s
 tructure\, complexion of the sitter\, and understanding of the way the l
 ight reveals the subject will be discussed.
URL;VALUE=URI:https://lbifoundation.org/sc_recurring_event/portraiture-i
 n-oils-demonstration-with-paul-dusold-2/
UID:urn:uuid:94679431-e6d0-4a80-b1db-572bd329b8bc
STATUS:CONFIRMED
ORGANIZER:
DTSTAMP:20260424T172532Z
DTSTART;TZID=America/New_York:20260820T090000
DTEND;TZID=America/New_York:20260820T160000
RRULE:FREQ=DAILY;INTERVAL=1;UNTIL=20260821T235959Z
LOCATION:120 Long Beach Boulevard
END:VEVENT
END:VCALENDAR