BEGIN:VCALENDAR
METHOD:PUBLISH
VERSION:2.0
CALSCALE:GREGORIAN
PRODID:-//NONSGML WPForms//NONSGML Sugar Calendar Feeds v3.11.0//EN
X-WR-CALNAME:Portraiture in Oils Demonstration with Paul DuSold
X-WR-CALDESC:The Long Beach Island Foundation
X-WR-TIMEZONE:America/New_York
BEGIN:VTIMEZONE
TZID:America/New_York
BEGIN:DAYLIGHT
TZOFFSETFROM:-0500
TZOFFSETTO:-0400
DTSTART:20260308T070000
TZNAME:EDT
END:DAYLIGHT
END:VTIMEZONE
BEGIN:VTIMEZONE
TZID:America/New_York
BEGIN:DAYLIGHT
TZOFFSETFROM:-0500
TZOFFSETTO:-0400
DTSTART:20260308T070000
TZNAME:EDT
END:DAYLIGHT
END:VTIMEZONE
BEGIN:VEVENT
SUMMARY:Portraiture in Oils Demonstration with Paul DuSold
DESCRIPTION:Philadelphia artist Paul DuSold demonstrates a step-by-step 
 process for creating a portrait in oils. Paul will demo the fundamentals
  of achieving a compelling likeness. Considerations of complexion\, ligh
 ting effect and relationship of features discussed.
URL;VALUE=URI:https://lbifoundation.org/events/portraiture-in-oils-demon
 stration-with-paul-dusold/
UID:urn:uuid:94679431-e6d0-4a80-b1db-572bd329b8bc
STATUS:CONFIRMED
ORGANIZER:
DTSTAMP:20260424T172444Z
DTSTART;TZID=America/New_York:20260629T160000
DTEND;TZID=America/New_York:20260629T170000
LOCATION:120 Long Beach Boulevard
END:VEVENT
END:VCALENDAR