BEGIN:VCALENDAR
METHOD:PUBLISH
VERSION:2.0
CALSCALE:GREGORIAN
PRODID:-//NONSGML WPForms//NONSGML Sugar Calendar Feeds v3.11.0//EN
X-WR-CALNAME:Raku-for-You-Workshop
X-WR-CALDESC:The Long Beach Island Foundation
X-WR-TIMEZONE:America/New_York
BEGIN:VTIMEZONE
TZID:America/New_York
BEGIN:DAYLIGHT
TZOFFSETFROM:-0500
TZOFFSETTO:-0400
DTSTART:20260308T070000
TZNAME:EDT
END:DAYLIGHT
END:VTIMEZONE
BEGIN:VTIMEZONE
TZID:America/New_York
BEGIN:DAYLIGHT
TZOFFSETFROM:-0500
TZOFFSETTO:-0400
DTSTART:20260308T070000
TZNAME:EDT
END:DAYLIGHT
END:VTIMEZONE
BEGIN:VEVENT
SUMMARY:Raku for You Workshop
DESCRIPTION:Come learn the process of Raku with Studio Manager/Fire Boss
 \, Jeff and long time LBIF resident\, Sandi as we cover the raku process
  from wet clay to finished work. We will create raku friendly vessels th
 e first 2 weeks and fire the subsequent 4 weeks. Techniques covered will
  be Horsehair &amp\; Feather\, Obvara\, Crackle glazes\, Copper glazes a
 nd Naked slip. Closed toed shoes and cotton clothing will be required on
  firing days.\n\n\nWednesdays\, June 10th - July 15th\, 10am - 2pm\nFee:
  $350 per person/ $400 Member/ $500 non-Member
URL;VALUE=URI:https://lbifoundation.org/sc_recurring_event/raku-for-you-
 workshop/
UID:urn:uuid:eb85537d-7d55-4071-8dd8-bb99aa21261e
STATUS:CONFIRMED
ORGANIZER:
DTSTAMP:20260424T171555Z
DTSTART;TZID=America/New_York:20260610T100000
DTEND;TZID=America/New_York:20260610T140000
RRULE:FREQ=WEEKLY;INTERVAL=1;UNTIL=20260715T235959Z
LOCATION:120 Long Beach Boulevard
END:VEVENT
END:VCALENDAR