BEGIN:VCALENDAR
METHOD:PUBLISH
VERSION:2.0
CALSCALE:GREGORIAN
PRODID:-//NONSGML WPForms//NONSGML Sugar Calendar Feeds v3.11.0//EN
X-WR-CALNAME:Rust Printing with Maria Maurio
X-WR-CALDESC:The Long Beach Island Foundation
X-WR-TIMEZONE:America/New_York
BEGIN:VTIMEZONE
TZID:America/New_York
BEGIN:DAYLIGHT
TZOFFSETFROM:-0500
TZOFFSETTO:-0400
DTSTART:20260308T070000
TZNAME:EDT
END:DAYLIGHT
END:VTIMEZONE
BEGIN:VTIMEZONE
TZID:America/New_York
BEGIN:DAYLIGHT
TZOFFSETFROM:-0500
TZOFFSETTO:-0400
DTSTART:20260308T070000
TZNAME:EDT
END:DAYLIGHT
END:VTIMEZONE
BEGIN:VEVENT
SUMMARY:Rust Printing with Maria Maurio
DESCRIPTION:This workshop will explore creating patterns on both paper a
 nd textiles using found rusted objects and then over-dyeing with permane
 nt tannin rich dye baths (tea\, coffee\, tree barks\, etc.). Watercolor 
 papers\, cotton handkerchief\, rusty objects included.\n\nRust Printing 
 with Maria Maurio\nFee: $125.00 / session
URL;VALUE=URI:https://lbifoundation.org/events/rust-printing-maria-mauri
 o/
UID:urn:uuid:995d9e2d-0f08-47a8-a168-9c49b555df27
STATUS:CONFIRMED
ORGANIZER:
DTSTAMP:20260424T165600Z
DTSTART;TZID=America/New_York:20260811T100000
DTEND;TZID=America/New_York:20260811T133000
LOCATION:120 Long Beach Boulevard
END:VEVENT
END:VCALENDAR