BEGIN:VCALENDAR
METHOD:PUBLISH
VERSION:2.0
CALSCALE:GREGORIAN
PRODID:-//NONSGML WPForms//NONSGML Sugar Calendar Feeds v3.11.0//EN
X-WR-CALNAME:Shibori Dyed Silk Scarves with Leni Hoch
X-WR-CALDESC:The Long Beach Island Foundation
X-WR-TIMEZONE:America/New_York
BEGIN:VTIMEZONE
TZID:America/New_York
BEGIN:DAYLIGHT
TZOFFSETFROM:-0500
TZOFFSETTO:-0400
DTSTART:20260308T070000
TZNAME:EDT
END:DAYLIGHT
END:VTIMEZONE
BEGIN:VTIMEZONE
TZID:America/New_York
BEGIN:DAYLIGHT
TZOFFSETFROM:-0500
TZOFFSETTO:-0400
DTSTART:20260308T070000
TZNAME:EDT
END:DAYLIGHT
END:VTIMEZONE
BEGIN:VEVENT
SUMMARY:Shibori Dyed Silk Scarves with Leni Hoch
DESCRIPTION:Shibori is a traditional Japanese resist-dyeing technique th
 at uses folding\, binding\, wrapping\, and compression to create pattern
 s on cloth. Participants will practice methods on large cotton swatches 
 before dyeing their own silk scarf. All levels welcome.\n\n$100.00 / se
 ssion
URL;VALUE=URI:https://lbifoundation.org/events/shibori-dyed-silk-scarves
 -07-21/
UID:urn:uuid:929df0ad-cad5-4f8a-9ee3-9072078e589a
STATUS:CONFIRMED
ORGANIZER:
DTSTAMP:20260424T165145Z
DTSTART;TZID=America/New_York:20260721T090000
DTEND;TZID=America/New_York:20260721T150000
LOCATION:120 Long Beach Boulevard
END:VEVENT
END:VCALENDAR