BEGIN:VCALENDAR
METHOD:PUBLISH
VERSION:2.0
CALSCALE:GREGORIAN
PRODID:-//NONSGML WPForms//NONSGML Sugar Calendar Feeds v3.11.0//EN
X-WR-CALNAME:Spring Fling Hoedown 2026
X-WR-CALDESC:The Long Beach Island Foundation
X-WR-TIMEZONE:America/New_York
BEGIN:VTIMEZONE
TZID:America/New_York
BEGIN:DAYLIGHT
TZOFFSETFROM:-0500
TZOFFSETTO:-0400
DTSTART:20260308T070000
TZNAME:EDT
END:DAYLIGHT
END:VTIMEZONE
BEGIN:VTIMEZONE
TZID:America/New_York
BEGIN:DAYLIGHT
TZOFFSETFROM:-0500
TZOFFSETTO:-0400
DTSTART:20260308T070000
TZNAME:EDT
END:DAYLIGHT
END:VTIMEZONE
BEGIN:VEVENT
SUMMARY:Spring Fling Hoedown 2026
DESCRIPTION:Bring your friends and family to this rootin' tootin' fun ni
 ght with Country Line Dancing by the fabulous Dancemaur Group. All level
 s welcome\, beginners too\, and if you don't want to dance\, come watch!
  Enjoy delicious BBQ from Neptune Market and receive a drink ticket to t
 he beer and wine bar. Join the fun!\n\n\n\n&nbsp\;\nThis is also a free 
 event for LBIF Members to reconnect after the long winter. Not a member 
 yet? We invite you to join and explore everything LBIF has to offer. You
  can renew your membership online or contact us at office@lbifoundation.
 org or 609-494-1241. We are truly grateful for your support of LBIF\, an
 d we can’t wait to spend a vibrant summer together!\n&nbsp\;\n\n\n\nTI
 CKETS:\nFree for LBIF 2026 Members - Please register to let us know you 
 plan to attend!\n$15 per person for non-members until May 13\n$20 per pe
 rson after May 13\n$25 per person at the door
URL;VALUE=URI:https://lbifoundation.org/events/spring-fling-2026/
UID:urn:uuid:9dbb6258-6e47-4cd6-9fa4-ab7bf25ad815
STATUS:CONFIRMED
ORGANIZER:
DTSTAMP:20260424T180544Z
DTSTART;TZID=America/New_York:20260516T170000
DTEND;TZID=America/New_York:20260516T200000
LOCATION:120 Long Beach Boulevard
END:VEVENT
END:VCALENDAR