BEGIN:VCALENDAR
METHOD:PUBLISH
VERSION:2.0
CALSCALE:GREGORIAN
PRODID:-//NONSGML WPForms//NONSGML Sugar Calendar Feeds v3.11.0//EN
X-WR-CALNAME:Sterling Silver Gemstone and Chain Dangle Earrings
X-WR-CALDESC:The Long Beach Island Foundation
X-WR-TIMEZONE:America/New_York
BEGIN:VTIMEZONE
TZID:America/New_York
BEGIN:DAYLIGHT
TZOFFSETFROM:-0500
TZOFFSETTO:-0400
DTSTART:20260308T070000
TZNAME:EDT
END:DAYLIGHT
END:VTIMEZONE
BEGIN:VTIMEZONE
TZID:America/New_York
BEGIN:DAYLIGHT
TZOFFSETFROM:-0500
TZOFFSETTO:-0400
DTSTART:20260308T070000
TZNAME:EDT
END:DAYLIGHT
END:VTIMEZONE
BEGIN:VEVENT
SUMMARY:Sterling Silver Gemstone and Chain Dangle Earrings
DESCRIPTION:Create a hand formed dangle earring in sterling silver with 
 a gemstone of choice &amp\; delicate chain drop. Skills covered in this 
 class include forming\, cutting\, hammering/texturing\, filing\, and oxi
 dizing. $35 materials cost paid cash day-of to instructor.
URL;VALUE=URI:https://lbifoundation.org/events/sterling-silver-gemstone-
 chain-dangle-earrings/
UID:urn:uuid:00abe850-6134-45c2-8d0d-7eb27413760b
STATUS:CONFIRMED
ORGANIZER:
DTSTAMP:20260424T171346Z
DTSTART;TZID=America/New_York:20260820T110000
DTEND;TZID=America/New_York:20260820T140000
LOCATION:120 Long Beach Boulevard
END:VEVENT
END:VCALENDAR