BEGIN:VCALENDAR
METHOD:PUBLISH
VERSION:2.0
CALSCALE:GREGORIAN
PRODID:-//NONSGML WPForms//NONSGML Sugar Calendar Feeds v3.11.0//EN
X-WR-CALNAME:Sterling Silver Love Knot Ring
X-WR-CALDESC:The Long Beach Island Foundation
X-WR-TIMEZONE:America/New_York
BEGIN:VTIMEZONE
TZID:America/New_York
BEGIN:DAYLIGHT
TZOFFSETFROM:-0500
TZOFFSETTO:-0400
DTSTART:20260308T070000
TZNAME:EDT
END:DAYLIGHT
END:VTIMEZONE
BEGIN:VTIMEZONE
TZID:America/New_York
BEGIN:DAYLIGHT
TZOFFSETFROM:-0500
TZOFFSETTO:-0400
DTSTART:20260308T070000
TZNAME:EDT
END:DAYLIGHT
END:VTIMEZONE
BEGIN:VEVENT
SUMMARY:Sterling Silver Love Knot Ring
DESCRIPTION:Be guided through the process of creating the knot with two 
 pieces of wire and then sizing the ring. The skills covered include cutt
 ing\, forming\, sizing\, soldering\, filing and polishing\, and optional
  oxidizing. $40 materials cost paid cash day-of.
URL;VALUE=URI:https://lbifoundation.org/events/sterling-silver-love-knot
 -ring/
UID:urn:uuid:6d7d29dc-196d-4938-a08c-f5ea9598addd
STATUS:CONFIRMED
ORGANIZER:
DTSTAMP:20260424T171458Z
DTSTART;TZID=America/New_York:20260625T110000
DTEND;TZID=America/New_York:20260625T150000
LOCATION:120 Long Beach Boulevard
END:VEVENT
END:VCALENDAR