BEGIN:VCALENDAR
METHOD:PUBLISH
VERSION:2.0
CALSCALE:GREGORIAN
PRODID:-//NONSGML WPForms//NONSGML Sugar Calendar Feeds v3.11.0//EN
X-WR-CALNAME:Sterling Silver Sea Glass Pendant
X-WR-CALDESC:The Long Beach Island Foundation
X-WR-TIMEZONE:America/New_York
BEGIN:VTIMEZONE
TZID:America/New_York
BEGIN:DAYLIGHT
TZOFFSETFROM:-0500
TZOFFSETTO:-0400
DTSTART:20260308T070000
TZNAME:EDT
END:DAYLIGHT
END:VTIMEZONE
BEGIN:VTIMEZONE
TZID:America/New_York
BEGIN:DAYLIGHT
TZOFFSETFROM:-0500
TZOFFSETTO:-0400
DTSTART:20260308T070000
TZNAME:EDT
END:DAYLIGHT
END:VTIMEZONE
BEGIN:VEVENT
SUMMARY:Sterling Silver Sea Glass Pendant
DESCRIPTION:Be guided through the process of creating a custom sea glass
  pendant. Participants will learn cutting\, forming a custom sized bezel
 \, soldering\, texturing\, filing and polishing\, and optional oxidizing
 . $40 materials cost paid cash to instructor.
URL;VALUE=URI:https://lbifoundation.org/events/sterling-silver-sea-glass
 -pendant/
UID:urn:uuid:6c910395-29c2-4aec-87cb-3d5ca73be9a9
STATUS:CONFIRMED
ORGANIZER:
DTSTAMP:20260424T172206Z
DTSTART;TZID=America/New_York:20260709T110000
DTEND;TZID=America/New_York:20260709T150000
LOCATION:120 Long Beach Boulevard
END:VEVENT
END:VCALENDAR