BEGIN:VCALENDAR
METHOD:PUBLISH
VERSION:2.0
CALSCALE:GREGORIAN
PRODID:-//NONSGML WPForms//NONSGML Sugar Calendar Feeds v3.11.0//EN
X-WR-CALNAME:Watercolor Seascapes with Chung Fan-Chang
X-WR-CALDESC:The Long Beach Island Foundation
X-WR-TIMEZONE:America/New_York
BEGIN:VTIMEZONE
TZID:America/New_York
BEGIN:DAYLIGHT
TZOFFSETFROM:-0500
TZOFFSETTO:-0400
DTSTART:20260308T070000
TZNAME:EDT
END:DAYLIGHT
END:VTIMEZONE
BEGIN:VTIMEZONE
TZID:America/New_York
BEGIN:DAYLIGHT
TZOFFSETFROM:-0500
TZOFFSETTO:-0400
DTSTART:20260308T070000
TZNAME:EDT
END:DAYLIGHT
END:VTIMEZONE
BEGIN:VEVENT
SUMMARY:Watercolor Seascapes with Chung Fan-Chang
DESCRIPTION:Participants will explore the beauty of ocean landscapes whi
 le learning essential watercolor techniques to create dynamic\, atmosphe
 ric seascapes. From soft horizons to crashing waves\, participants will 
 discover how to capture movement\, light\, and depth.
URL;VALUE=URI:https://lbifoundation.org/events/watercolor-seascapes-chun
 g-fan-chang/
UID:urn:uuid:6e7d8503-e6a9-4eeb-b084-95714c9a4da6
STATUS:CONFIRMED
ORGANIZER:
DTSTAMP:20260424T172412Z
DTSTART;TZID=America/New_York:20260825T133000
DTEND;TZID=America/New_York:20260825T153000
LOCATION:120 Long Beach Boulevard
END:VEVENT
END:VCALENDAR