BEGIN:VCALENDAR
METHOD:PUBLISH
VERSION:2.0
CALSCALE:GREGORIAN
PRODID:-//NONSGML WPForms//NONSGML Sugar Calendar Feeds v3.11.0//EN
X-WR-CALNAME:Watercolor-Techniques-with-Carol-Freas
X-WR-CALDESC:The Long Beach Island Foundation
X-WR-TIMEZONE:America/New_York
BEGIN:VTIMEZONE
TZID:America/New_York
BEGIN:DAYLIGHT
TZOFFSETFROM:-0500
TZOFFSETTO:-0400
DTSTART:20260308T070000
TZNAME:EDT
END:DAYLIGHT
END:VTIMEZONE
BEGIN:VTIMEZONE
TZID:America/New_York
BEGIN:DAYLIGHT
TZOFFSETFROM:-0500
TZOFFSETTO:-0400
DTSTART:20260308T070000
TZNAME:EDT
END:DAYLIGHT
END:VTIMEZONE
BEGIN:VEVENT
SUMMARY:Watercolor Techniques with Carol Freas
DESCRIPTION:Join Carol Freas to develop new skills with transparent colo
 r by watching demonstrations and more. Join us to advance your technique
 s\, expand your portfolio\, or elaborate on your skills.\n\nWatercolor T
 echniques with Carol Freas\nFee: $40.00 / session
URL;VALUE=URI:https://lbifoundation.org/sc_recurring_event/watercolor-te
 chniques-with-carol-freas/
UID:urn:uuid:1f2be928-b050-421f-bd55-eda97d35ecef
STATUS:CONFIRMED
ORGANIZER:
DTSTAMP:20260424T165827Z
DTSTART;TZID=America/New_York:20260819T093000
DTEND;TZID=America/New_York:20260819T123000
RRULE:FREQ=WEEKLY;INTERVAL=1;UNTIL=20260902T235959Z
LOCATION:120 Long Beach Boulevard
END:VEVENT
END:VCALENDAR