BEGIN:VCALENDAR
METHOD:PUBLISH
VERSION:2.0
CALSCALE:GREGORIAN
PRODID:-//NONSGML WPForms//NONSGML Sugar Calendar Feeds v3.11.0//EN
X-WR-CALNAME:Weaving in the Round with Courtney Salerno
X-WR-CALDESC:The Long Beach Island Foundation
X-WR-TIMEZONE:America/New_York
BEGIN:VTIMEZONE
TZID:America/New_York
BEGIN:DAYLIGHT
TZOFFSETFROM:-0500
TZOFFSETTO:-0400
DTSTART:20260308T070000
TZNAME:EDT
END:DAYLIGHT
END:VTIMEZONE
BEGIN:VTIMEZONE
TZID:America/New_York
BEGIN:DAYLIGHT
TZOFFSETFROM:-0500
TZOFFSETTO:-0400
DTSTART:20260308T070000
TZNAME:EDT
END:DAYLIGHT
END:VTIMEZONE
BEGIN:VEVENT
SUMMARY:Weaving in the Round with Courtney Salerno
DESCRIPTION:Learn the techniques of weaving in the round—from setting 
 up your hoop loom to creating textured\, layered designs using yarns and
  fibers. You'll learn how to warp a circular loom\, basic/decorative wea
 ving stitches\, color blending and textural techniques.\n\n$80.00 / ses
 sion
URL;VALUE=URI:https://lbifoundation.org/events/weaving-in-the-round/
UID:urn:uuid:5ccc83cf-3395-4ae7-8600-bfe62e4204aa
STATUS:CONFIRMED
ORGANIZER:
DTSTAMP:20260424T165514Z
DTSTART;TZID=America/New_York:20260806T110000
DTEND;TZID=America/New_York:20260806T140000
LOCATION:120 Long Beach Boulevard
END:VEVENT
END:VCALENDAR